BEGIN:VCALENDAR
VERSION:2.0
PRODID:-//Landgasthaus Keuler - ECPv6.3.2//NONSGML v1.0//EN
CALSCALE:GREGORIAN
METHOD:PUBLISH
X-ORIGINAL-URL:https://landgasthaus-keuler.de
X-WR-CALDESC:Veranstaltungen für Landgasthaus Keuler
REFRESH-INTERVAL;VALUE=DURATION:PT1H
X-Robots-Tag:noindex
X-PUBLISHED-TTL:PT1H
BEGIN:VTIMEZONE
TZID:UTC
BEGIN:STANDARD
TZOFFSETFROM:+0000
TZOFFSETTO:+0000
TZNAME:UTC
DTSTART:20200101T000000
END:STANDARD
END:VTIMEZONE
BEGIN:VEVENT
DTSTART;TZID=UTC:20200605T170000
DTEND;TZID=UTC:20200605T210000
DTSTAMP:20260420T033255
CREATED:20200520T084255Z
LAST-MODIFIED:20200520T084255Z
UID:424670-1591376400-1591390800@landgasthaus-keuler.de
SUMMARY:Burger Tischbuffet
DESCRIPTION:
URL:https://landgasthaus-keuler.de/event/burger-tischbuffet/
CATEGORIES:Events
END:VEVENT
END:VCALENDAR