BEGIN:VCALENDAR
VERSION:2.0
PRODID:-//Landgasthaus Keuler - ECPv6.3.2//NONSGML v1.0//EN
CALSCALE:GREGORIAN
METHOD:PUBLISH
X-WR-CALNAME:Landgasthaus Keuler
X-ORIGINAL-URL:https://landgasthaus-keuler.de
X-WR-CALDESC:Veranstaltungen für Landgasthaus Keuler
REFRESH-INTERVAL;VALUE=DURATION:PT1H
X-Robots-Tag:noindex
X-PUBLISHED-TTL:PT1H
BEGIN:VTIMEZONE
TZID:UTC
BEGIN:STANDARD
TZOFFSETFROM:+0000
TZOFFSETTO:+0000
TZNAME:UTC
DTSTART:20200101T000000
END:STANDARD
END:VTIMEZONE
BEGIN:VEVENT
DTSTART;VALUE=DATE:20200521
DTEND;VALUE=DATE:20200522
DTSTAMP:20260420T063217
CREATED:20200520T082717Z
LAST-MODIFIED:20200520T082717Z
UID:424259-1590019200-1590105599@landgasthaus-keuler.de
SUMMARY:Vatertags Barbecue Tischbuffet
DESCRIPTION:
URL:https://landgasthaus-keuler.de/event/vatertags-barbecue-tischbuffet/
CATEGORIES:Events
ATTACH;FMTTYPE=image/jpeg:https://landgasthaus-keuler.de/wp-content/uploads/2020/05/grilltischbuffet.jpg
END:VEVENT
END:VCALENDAR