BEGIN:VCALENDAR
VERSION:2.0
PRODID:-//Landgasthaus Keuler - ECPv6.3.2//NONSGML v1.0//EN
CALSCALE:GREGORIAN
METHOD:PUBLISH
X-ORIGINAL-URL:https://landgasthaus-keuler.de
X-WR-CALDESC:Veranstaltungen für Landgasthaus Keuler
REFRESH-INTERVAL;VALUE=DURATION:PT1H
X-Robots-Tag:noindex
X-PUBLISHED-TTL:PT1H
BEGIN:VTIMEZONE
TZID:UTC
BEGIN:STANDARD
TZOFFSETFROM:+0000
TZOFFSETTO:+0000
TZNAME:UTC
DTSTART:20210101T000000
END:STANDARD
END:VTIMEZONE
BEGIN:VEVENT
DTSTART;TZID=UTC:20210529T170000
DTEND;TZID=UTC:20210529T230000
DTSTAMP:20260423T011534
CREATED:20210528T132640Z
LAST-MODIFIED:20210528T132640Z
UID:1604810-1622307600-1622329200@landgasthaus-keuler.de
SUMMARY:Field Sounds 1/2021
DESCRIPTION:
URL:https://landgasthaus-keuler.de/event/field-sounds-1-2021/
CATEGORIES:Events
ATTACH;FMTTYPE=image/jpeg:https://landgasthaus-keuler.de/wp-content/uploads/2021/05/field-sounds-1-21-laurenz-Peter.jpg
END:VEVENT
END:VCALENDAR