BEGIN:VCALENDAR
VERSION:2.0
PRODID:-//Landgasthaus Keuler - ECPv6.3.2//NONSGML v1.0//EN
CALSCALE:GREGORIAN
METHOD:PUBLISH
X-ORIGINAL-URL:https://landgasthaus-keuler.de
X-WR-CALDESC:Veranstaltungen für Landgasthaus Keuler
REFRESH-INTERVAL;VALUE=DURATION:PT1H
X-Robots-Tag:noindex
X-PUBLISHED-TTL:PT1H
BEGIN:VTIMEZONE
TZID:UTC
BEGIN:STANDARD
TZOFFSETFROM:+0000
TZOFFSETTO:+0000
TZNAME:UTC
DTSTART:20220101T000000
END:STANDARD
END:VTIMEZONE
BEGIN:VEVENT
DTSTART;VALUE=DATE:20220526
DTEND;VALUE=DATE:20220527
DTSTAMP:20260424T134016
CREATED:20220608T145037Z
LAST-MODIFIED:20220608T145108Z
UID:1605269-1653523200-1653609599@landgasthaus-keuler.de
SUMMARY:Fiasko & Geppi und Stephan Field Sounds 1/22
DESCRIPTION:
URL:https://landgasthaus-keuler.de/event/fiasko-geppi-und-stephan-field-sounds-1-22/
CATEGORIES:Events
ATTACH;FMTTYPE=image/jpeg:https://landgasthaus-keuler.de/wp-content/uploads/2022/06/IMG-20220405-WA0008.jpg
END:VEVENT
END:VCALENDAR