BEGIN:VCALENDAR
VERSION:2.0
PRODID:-//Landgasthaus Keuler - ECPv6.3.2//NONSGML v1.0//EN
CALSCALE:GREGORIAN
METHOD:PUBLISH
X-WR-CALNAME:Landgasthaus Keuler
X-ORIGINAL-URL:https://landgasthaus-keuler.de
X-WR-CALDESC:Veranstaltungen für Landgasthaus Keuler
REFRESH-INTERVAL;VALUE=DURATION:PT1H
X-Robots-Tag:noindex
X-PUBLISHED-TTL:PT1H
BEGIN:VTIMEZONE
TZID:UTC
BEGIN:STANDARD
TZOFFSETFROM:+0000
TZOFFSETTO:+0000
TZNAME:UTC
DTSTART:20220101T000000
END:STANDARD
END:VTIMEZONE
BEGIN:VEVENT
DTSTART;VALUE=DATE:20221119
DTEND;VALUE=DATE:20221120
DTSTAMP:20260423T135544
CREATED:20221104T112944Z
LAST-MODIFIED:20221104T112944Z
UID:1605390-1668816000-1668902399@landgasthaus-keuler.de
SUMMARY:Adventseinklang
DESCRIPTION:
URL:https://landgasthaus-keuler.de/event/adventseinklang/
CATEGORIES:Events
ATTACH;FMTTYPE=image/jpeg:https://landgasthaus-keuler.de/wp-content/uploads/2022/11/adventseinklang-flyer-vorne.jpg
END:VEVENT
END:VCALENDAR